BEGIN:VCALENDAR
VERSION:2.0
PRODID:-//jEvents 2.0 for Joomla//EN
CALSCALE:GREGORIAN
METHOD:PUBLISH
BEGIN:VEVENT
UID:AAAAAH+7XGaHWyBOi2ko1kLwtILksSQA
CATEGORIES:Dienstplan Jugendfeuerwehr
CLASS:PUBLIC
CREATED:20200109T235704
SUMMARY:Uebung
LOCATION:Schwieberdingen
DESCRIPTION;ENCODING=QUOTED-PRINTABLE:Bemerkungen: Sonderrohre - Anzugsordnung: Uniform - Teilnehmerkreis: alle -
  Uebungsleiter: Jens / Sven / Dieter
DTSTAMP:20260421T114031Z
DTSTART:20200730T163000Z
DTEND:20200730T180000Z
SEQUENCE:0
TRANSP:OPAQUE
END:VEVENT
END:VCALENDAR