BEGIN:VCALENDAR
VERSION:2.0
PRODID:-//jEvents 2.0 for Joomla//EN
CALSCALE:GREGORIAN
METHOD:PUBLISH
BEGIN:VEVENT
UID:AAAAAH+7XGaHWyBOi2ko1kLwtIJEsSQA
CATEGORIES:Dienstplan Jugendfeuerwehr
CLASS:PUBLIC
CREATED:20200109T235704
SUMMARY:Uebung
LOCATION:Schwieberdingen
DESCRIPTION;ENCODING=QUOTED-PRINTABLE:Bemerkungen: Vorbereitung Duathlon / Ausflug - Anzugsordnung: Uniform - Tei
 lnehmerkreis: alle - Uebungsleiter: Jens / David
DTSTAMP:20260421T114007Z
DTSTART:20200702T163000Z
DTEND:20200702T180000Z
SEQUENCE:0
TRANSP:OPAQUE
END:VEVENT
END:VCALENDAR