BEGIN:VCALENDAR
VERSION:2.0
PRODID:-//jEvents 2.0 for Joomla//EN
CALSCALE:GREGORIAN
METHOD:PUBLISH
BEGIN:VEVENT
UID:AAAAAH+7XGaHWyBOi2ko1kLwtILksCQA
CATEGORIES:Dienstplan Jugendfeuerwehr
CLASS:PUBLIC
CREATED:20200109T235704
SUMMARY:Bezirksgrillen
LOCATION:Tamm
DESCRIPTION;ENCODING=QUOTED-PRINTABLE:Bemerkungen: Tamm - Ende gegen 21:00 Uhr - Anzugsordnung: Zivil - Teilnehme
 rkreis: alle - Uebungsleiter: Jens
DTSTAMP:20260421T091034Z
DTSTART:20200520T163000Z
DTEND:20200520T190000Z
SEQUENCE:0
TRANSP:OPAQUE
END:VEVENT
END:VCALENDAR