BEGIN:VCALENDAR
VERSION:2.0
PRODID:-//jEvents 2.0 for Joomla//EN
CALSCALE:GREGORIAN
METHOD:PUBLISH
BEGIN:VEVENT
UID:AAAAAH+7XGaHWyBOi2ko1kLwtIKksCQA
CATEGORIES:Dienstplan Jugendfeuerwehr
CLASS:PUBLIC
CREATED:20200109T235704
SUMMARY:Sitzung des JF Ausschuss
LOCATION:offen
DESCRIPTION;ENCODING=QUOTED-PRINTABLE:Bemerkungen: Termin nur fuer Jugendleiter und Jugendsprecher - Anzugsordnun
 g: Zivil - Teilnehmerkreis: JS + JL - Uebungsleiter: Jens
DTSTAMP:20260421T090224Z
DTSTART:20200512T163000Z
DTEND:20200512T180000Z
SEQUENCE:0
TRANSP:OPAQUE
END:VEVENT
END:VCALENDAR