BEGIN:VCALENDAR
VERSION:2.0
PRODID:-//jEvents 2.0 for Joomla//EN
CALSCALE:GREGORIAN
METHOD:PUBLISH
BEGIN:VEVENT
UID:AAAAAH+7XGaHWyBOi2ko1kLwtIKEsCQA
CATEGORIES:Dienstplan Jugendfeuerwehr
CLASS:PUBLIC
CREATED:20200109T235704
SUMMARY:Kreispokal
LOCATION:Hessigheim
DESCRIPTION;ENCODING=QUOTED-PRINTABLE:Bemerkungen: Tagesevent in Hessigheim - Ende gegen 17:00 Uhr - Anzugsordnun
 g: Uniform - Teilnehmerkreis: alle - Uebungsleiter: Jens
DTSTAMP:20260421T083110Z
DTSTART:20200509T060000Z
DTEND:20200509T170000Z
SEQUENCE:0
TRANSP:OPAQUE
END:VEVENT
END:VCALENDAR