BEGIN:VCALENDAR
VERSION:2.0
PRODID:-//jEvents 2.0 for Joomla//EN
CALSCALE:GREGORIAN
METHOD:PUBLISH
BEGIN:VEVENT
UID:AAAAAH+7XGaHWyBOi2ko1kLwtIJEsCQA
CATEGORIES:Dienstplan Jugendfeuerwehr
CREATED:20200109T235704
SUMMARY:ABGESAGT - Uebung
LOCATION:Schwieberdingen
DESCRIPTION;ENCODING=QUOTED-PRINTABLE:<p>Bemerkungen: Stationsausbildung Atemschutz - Anzugsordnung: Uniform - Te
 ilnehmerkreis: alle - Uebungsleiter: Dieter</p>
DTSTAMP:20260425T110721Z
DTSTART:20200423T163000Z
DTEND:20200423T180000Z
SEQUENCE:0
TRANSP:OPAQUE
END:VEVENT
END:VCALENDAR