BEGIN:VCALENDAR
VERSION:2.0
PRODID:-//jEvents 2.0 for Joomla//EN
CALSCALE:GREGORIAN
METHOD:PUBLISH
BEGIN:VEVENT
UID:AAAAAH+7XGaHWyBOi2ko1kLwtIIksCQA
CATEGORIES:Dienstplan Jugendfeuerwehr
CREATED:20200109T235704
SUMMARY:ABGESAGT - Uebung
LOCATION:Schwieberdingen
DESCRIPTION;ENCODING=QUOTED-PRINTABLE:<p>Bemerkungen: Vorbereitung Kreispokal - Anzugsordnung: Uniform - Teilnehm
 erkreis: alle - Uebungsleiter: Julia / Simon / Alex</p>
DTSTAMP:20260421T120511Z
DTSTART:20200402T163000Z
DTEND:20200402T180000Z
SEQUENCE:0
TRANSP:OPAQUE
END:VEVENT
END:VCALENDAR