BEGIN:VCALENDAR
VERSION:2.0
PRODID:-//jEvents 2.0 for Joomla//EN
CALSCALE:GREGORIAN
METHOD:PUBLISH
BEGIN:VEVENT
UID:AAAAAH+7XGaHWyBOi2ko1kLwtIIEsCQA
CATEGORIES:Dienstplan Jugendfeuerwehr
CREATED:20200109T235704
SUMMARY:ABGESAGT - Hauptversammlung Kreisjugendfeuerwehr
LOCATION:Hemmingen
DESCRIPTION;ENCODING=QUOTED-PRINTABLE:<p>Termin bis auf weiteres abgesagt und verschoben!</p><p>Bemerkungen: nach
  Ende der Veranstaltung werden die Jugendlichen nach Hause gefahren - nur J
 ugendsprecher - Anzugsordnung: Uniform - Teilnehmerkreis: JL / JS - Uebungs
 leiter: Jens</p>
DTSTAMP:20260421T071215Z
DTSTART:20200320T180000Z
DTEND:20200320T220000Z
SEQUENCE:0
TRANSP:OPAQUE
END:VEVENT
END:VCALENDAR