BEGIN:VCALENDAR
VERSION:2.0
PRODID:-//jEvents 2.0 for Joomla//EN
CALSCALE:GREGORIAN
METHOD:PUBLISH
BEGIN:VEVENT
UID:AAAAAH+7XGaHWyBOi2ko1kLwtILEryQA
CATEGORIES:Dienstplan Jugendfeuerwehr
CREATED:20200109T235704
SUMMARY:ABGESAGT - Glemsputz
LOCATION:Schwieberdingen
DESCRIPTION;ENCODING=QUOTED-PRINTABLE:<p>Bemerkungen: Termin wurde noch nicht bestaetigt und kann sich ggf. um ei
 ne Woche verschieben. - Anzugsordnung: Uniform - Teilnehmerkreis: alle - Ue
 bungsleiter: Sven</p>
DTSTAMP:20260421T054108Z
DTSTART:20200321T074500Z
DTEND:20200321T130000Z
SEQUENCE:0
TRANSP:OPAQUE
END:VEVENT
END:VCALENDAR