BEGIN:VCALENDAR
VERSION:2.0
PRODID:-//jEvents 2.0 for Joomla//EN
CALSCALE:GREGORIAN
METHOD:PUBLISH
BEGIN:VEVENT
UID:AAAAAH+7XGaHWyBOi2ko1kLwtIKkryQA
CATEGORIES:Dienstplan Jugendfeuerwehr
CLASS:PUBLIC
CREATED:20200109T235704
SUMMARY:Uebung
LOCATION:Schwieberdingen
DESCRIPTION;ENCODING=QUOTED-PRINTABLE:Bemerkungen: Aufbau von Befehlen / Aufgaben einer Gruppe - Anzugsordnung: U
 niform - Teilnehmerkreis: alle - Uebungsleiter: Sven / Jens / Silja
DTSTAMP:20260421T054018Z
DTSTART:20200305T173000Z
DTEND:20200305T190000Z
SEQUENCE:0
TRANSP:OPAQUE
END:VEVENT
END:VCALENDAR