BEGIN:VCALENDAR
VERSION:2.0
PRODID:-//jEvents 2.0 for Joomla//EN
CALSCALE:GREGORIAN
METHOD:PUBLISH
BEGIN:VEVENT
UID:AAAAAH+7XGaHWyBOi2ko1kLwtIKEryQA
CATEGORIES:Dienstplan Jugendfeuerwehr
CREATED:20200109T235704
SUMMARY:Besuch Regio TV
LOCATION:Stuttgart
DESCRIPTION;ENCODING=QUOTED-PRINTABLE:<p>Bemerkungen: wie Termin 25.02 - Einladung folgt - Anzugsordnung: Zivil -
  Teilnehmerkreis: alle - Uebungsleiter: Silja</p>
DTSTAMP:20260421T054105Z
DTSTART:20200227T080000Z
DTEND:20200227T120000Z
SEQUENCE:0
TRANSP:OPAQUE
END:VEVENT
END:VCALENDAR