BEGIN:VCALENDAR
VERSION:2.0
PRODID:-//jEvents 2.0 for Joomla//EN
CALSCALE:GREGORIAN
METHOD:PUBLISH
BEGIN:VEVENT
UID:AAAAAH+7XGaHWyBOi2ko1kLwtIJkryQA
CATEGORIES:Dienstplan Jugendfeuerwehr
CREATED:20200109T235704
SUMMARY:Besuch Regio TV
LOCATION:Stuttgart
DESCRIPTION;ENCODING=QUOTED-PRINTABLE:<p>Bemerkungen: Anmeldeschluss beachten - max 12 TLN - Reihenfolge entschei
 det ueber Teilnahme - Anzugsordnung: Zivil - Teilnehmerkreis: alle - Uebung
 sleiter: Silja</p>
DTSTAMP:20260421T040452Z
DTSTART:20200225T080000Z
DTEND:20200225T120000Z
SEQUENCE:0
TRANSP:OPAQUE
END:VEVENT
END:VCALENDAR