BEGIN:VCALENDAR
VERSION:2.0
PRODID:-//jEvents 2.0 for Joomla//EN
CALSCALE:GREGORIAN
METHOD:PUBLISH
BEGIN:VEVENT
UID:AAAAAH+7XGaHWyBOi2ko1kLwtIIkryQA
CATEGORIES:Dienstplan Jugendfeuerwehr
CLASS:PUBLIC
CREATED:20200109T235704
SUMMARY:Jahreshauptversammlung Einsatzabteilung
LOCATION:Schwieberdingen
DESCRIPTION;ENCODING=QUOTED-PRINTABLE:Bemerkungen: nach Ende der Veranstaltung werden die Jugendlichen nach Hause
  gefahren - nur Jugendsprecher - Treffen gegen 19:45 - Anzugsordnung: Unifo
 rm - Teilnehmerkreis: JS - Uebungsleiter: Jens
DTSTAMP:20260421T103502Z
DTSTART:20200131T190000Z
DTEND:20200131T220000Z
SEQUENCE:0
TRANSP:OPAQUE
END:VEVENT
END:VCALENDAR