BEGIN:VCALENDAR
VERSION:2.0
PRODID:-//jEvents 2.0 for Joomla//EN
CALSCALE:GREGORIAN
METHOD:PUBLISH
BEGIN:VEVENT
UID:040000008200E00074C5B7101A82E00800000000B0D34BF232C5D501000000000000000010000000BB352598B7450B458B1BD7513F886D9A
CATEGORIES:Dienstplan Einsatzabteilung 
CLASS:PUBLIC
CREATED:20200109T222640
SUMMARY:FüGr - Zusammenarbeit mit anderen HiOrg
DESCRIPTION;ENCODING=QUOTED-PRINTABLE: <br/>
DTSTAMP:20260421T193054Z
DTSTART:20201214T190000Z
DTEND:20201214T203000Z
SEQUENCE:0
TRANSP:OPAQUE
END:VEVENT
END:VCALENDAR