BEGIN:VCALENDAR
VERSION:2.0
PRODID:-//jEvents 2.0 for Joomla//EN
CALSCALE:GREGORIAN
METHOD:PUBLISH
BEGIN:VEVENT
UID:040000008200E00074C5B7101A82E00800000000D00DC2D132C5D501000000000000000010000000F906641F77876D4B829610B3308FE30D
CATEGORIES:Dienstplan Einsatzabteilung 
CLASS:PUBLIC
CREATED:20200109T222640
SUMMARY:Gesamt - Unterrichtsabend
DESCRIPTION;ENCODING=QUOTED-PRINTABLE: \n
DTSTAMP:20260421T191531Z
DTSTART:20201207T190000Z
DTEND:20201207T203000Z
SEQUENCE:0
TRANSP:OPAQUE
END:VEVENT
END:VCALENDAR