BEGIN:VCALENDAR
VERSION:2.0
PRODID:-//jEvents 2.0 for Joomla//EN
CALSCALE:GREGORIAN
METHOD:PUBLISH
BEGIN:VEVENT
UID:040000008200E00074C5B7101A82E008000000002010AD0D32C5D50100000000000000001000000096097C50FF16C1479171437741EC38F7
CATEGORIES:Dienstplan Einsatzabteilung 
CLASS:PUBLIC
CREATED:20200109T222640
SUMMARY:MA - Orts und Straßenkunde
DESCRIPTION;ENCODING=QUOTED-PRINTABLE: \n
DTSTAMP:20260421T185454Z
DTSTART:20201112T190000Z
DTEND:20201112T203000Z
SEQUENCE:0
TRANSP:OPAQUE
END:VEVENT
END:VCALENDAR