BEGIN:VCALENDAR
VERSION:2.0
PRODID:-//jEvents 2.0 for Joomla//EN
CALSCALE:GREGORIAN
METHOD:PUBLISH
BEGIN:VEVENT
UID:040000008200E00074C5B7101A82E00800000000B08ED60232C5D501000000000000000010000000E670D71D675E924FA0257368947492EA
CATEGORIES:Dienstplan Einsatzabteilung 
CLASS:PUBLIC
CREATED:20200109T222640
SUMMARY:Rot / Grün - EH Retten und Transport von Verletzten
DESCRIPTION;ENCODING=QUOTED-PRINTABLE: <br/>
DTSTAMP:20260423T101547Z
DTSTART:20201109T190000Z
DTEND:20201109T203000Z
SEQUENCE:0
TRANSP:OPAQUE
END:VEVENT
END:VCALENDAR