BEGIN:VCALENDAR
VERSION:2.0
PRODID:-//jEvents 2.0 for Joomla//EN
CALSCALE:GREGORIAN
METHOD:PUBLISH
BEGIN:VEVENT
UID:040000008200E00074C5B7101A82E00800000000D0BE4BC12BC5D50100000000000000001000000037A023B685B82B4190EAC26E393E83BF
CATEGORIES:Dienstplan Einsatzabteilung 
CLASS:PUBLIC
CREATED:20200109T222640
SUMMARY:GF + ZF - Einsatztaktik Gefahrstoff
DESCRIPTION;ENCODING=QUOTED-PRINTABLE: \n
DTSTAMP:20260421T161929Z
DTSTART:20201026T190000Z
DTEND:20201026T203000Z
SEQUENCE:0
TRANSP:OPAQUE
END:VEVENT
END:VCALENDAR