BEGIN:VCALENDAR
VERSION:2.0
PRODID:-//jEvents 2.0 for Joomla//EN
CALSCALE:GREGORIAN
METHOD:PUBLISH
BEGIN:VEVENT
UID:040000008200E00074C5B7101A82E00800000000C0A2515B2BC5D5010000000000000000100000007C76CF2839EEED40AA6B634327C905E8
CATEGORIES:Dienstplan Einsatzabteilung 
CLASS:PUBLIC
CREATED:20200109T222640
SUMMARY:Rot / Gelb - Not Dekon
DESCRIPTION;ENCODING=QUOTED-PRINTABLE: \n
DTSTAMP:20260421T161929Z
DTSTART:20201005T180000Z
DTEND:20201005T193000Z
SEQUENCE:0
TRANSP:OPAQUE
END:VEVENT
END:VCALENDAR