BEGIN:VCALENDAR
VERSION:2.0
PRODID:-//jEvents 2.0 for Joomla//EN
CALSCALE:GREGORIAN
METHOD:PUBLISH
BEGIN:VEVENT
UID:040000008200E00074C5B7101A82E00800000000E00A52002BC5D5010000000000000000100000007DEDC266B149EE4BAD9E9314A44097F4
CATEGORIES:Dienstplan Einsatzabteilung 
CLASS:PUBLIC
CREATED:20200109T222640
SUMMARY:FüGr - Schäferlauf Einsatzbereitschaft
DESCRIPTION;ENCODING=QUOTED-PRINTABLE: \n
DTSTAMP:20260423T104448Z
DTSTART;VALUE=DATE:20200828
DTEND;VALUE=DATE:20200901
SEQUENCE:0
TRANSP:OPAQUE
END:VEVENT
END:VCALENDAR