BEGIN:VCALENDAR
VERSION:2.0
PRODID:-//jEvents 2.0 for Joomla//EN
CALSCALE:GREGORIAN
METHOD:PUBLISH
BEGIN:VEVENT
UID:040000008200E00074C5B7101A82E0080000000060F70EC82AC5D501000000000000000010000000370E6009A0312642856D3E651EFB7CA5
CATEGORIES:Dienstplan Einsatzabteilung 
CREATED:20200109T222640
SUMMARY:Gruppe Rot 1
DESCRIPTION;ENCODING=QUOTED-PRINTABLE:
DTSTAMP:20260425T141151Z
DTSTART:20200720T180000Z
DTEND:20200720T193000Z
SEQUENCE:0
TRANSP:OPAQUE
END:VEVENT
END:VCALENDAR