BEGIN:VCALENDAR
VERSION:2.0
PRODID:-//jEvents 2.0 for Joomla//EN
CALSCALE:GREGORIAN
METHOD:PUBLISH
BEGIN:VEVENT
UID:040000008200E00074C5B7101A82E00800000000006E3A7C2AC5D501000000000000000010000000C8B0395653490441BA1C3670F5462AF6
CATEGORIES:Dienstplan Einsatzabteilung 
CREATED:20200109T222640
SUMMARY:Gruppe Rot 2
DESCRIPTION;ENCODING=QUOTED-PRINTABLE:
DTSTAMP:20260421T105057Z
DTSTART:20200706T180000Z
DTEND:20200706T193000Z
SEQUENCE:0
TRANSP:OPAQUE
END:VEVENT
END:VCALENDAR