BEGIN:VCALENDAR
VERSION:2.0
PRODID:-//jEvents 2.0 for Joomla//EN
CALSCALE:GREGORIAN
METHOD:PUBLISH
BEGIN:VEVENT
UID:AAAAAH+7XGaHWyBOi2ko1kLwtIJEmyQA
CATEGORIES:Dienstplan Einsatzabteilung 
CREATED:20200104T012615
SUMMARY:Bottwartal-Marathon
LOCATION:Steinheim an der Murr
DESCRIPTION;ENCODING=QUOTED-PRINTABLE:nähere Informationen unter www.bottwartal-marathon.de
DTSTAMP:20260421T175641Z
DTSTART:20201018T070000Z
DTEND:20201018T140000Z
SEQUENCE:0
TRANSP:OPAQUE
END:VEVENT
END:VCALENDAR