BEGIN:VCALENDAR
VERSION:2.0
PRODID:-//jEvents 2.0 for Joomla//EN
CALSCALE:GREGORIAN
METHOD:PUBLISH
BEGIN:VEVENT
UID:AAAAAH+7XGaHWyBOi2ko1kLwtIJEmiQA
CATEGORIES:Dienstplan Einsatzabteilung 
CREATED:20200104T012615
SUMMARY:Feuerwehrduathlon
LOCATION:Kappel-Grafenhausen
DESCRIPTION;ENCODING=QUOTED-PRINTABLE:Der 9. Baden-Württembergische Feuerwehr-Duathlon in Kappel-Grafenhausen im 
 Ortenaukreis.
DTSTAMP:20260421T123114Z
DTSTART:20200704T060000Z
DTEND:20200704T170000Z
SEQUENCE:0
TRANSP:OPAQUE
END:VEVENT
END:VCALENDAR