BEGIN:VCALENDAR
VERSION:2.0
PRODID:-//jEvents 2.0 for Joomla//EN
CALSCALE:GREGORIAN
METHOD:PUBLISH
BEGIN:VEVENT
UID:AAAAAH+7XGaHWyBOi2ko1kLwtIJkmSQA
CATEGORIES:Dienstplan Einsatzabteilung 
CREATED:20200104T012615
SUMMARY:ABGESAGT - Feuerwehrsport
LOCATION:Kasteneckhalle in Freiberg am Neckar
DESCRIPTION;ENCODING=QUOTED-PRINTABLE:<p>Abfahrt am Gerätehaus um 09:30 Uhr</p>
DTSTAMP:20260421T054253Z
DTSTART:20200329T080000Z
DTEND:20200329T100000Z
SEQUENCE:0
TRANSP:OPAQUE
END:VEVENT
END:VCALENDAR