BEGIN:VCALENDAR
VERSION:2.0
PRODID:-//jEvents 2.0 for Joomla//EN
CALSCALE:GREGORIAN
METHOD:PUBLISH
BEGIN:VEVENT
UID:AAAAAH+7XGaHWyBOi2ko1kLwtILkmCQA
CATEGORIES:Dienstplan Einsatzabteilung 
CREATED:20200104T012615
SUMMARY:Feuerwehrsport
LOCATION:Kasteneckhalle in Freiberg am Neckar
DESCRIPTION;ENCODING=QUOTED-PRINTABLE:Abfahrt am Gerätehaus um 09:30 Uhr
DTSTAMP:20260421T041519Z
DTSTART:20200202T090000Z
DTEND:20200202T110000Z
SEQUENCE:0
TRANSP:OPAQUE
END:VEVENT
END:VCALENDAR