BEGIN:VCALENDAR
VERSION:2.0
PRODID:-//jEvents 2.0 for Joomla//EN
CALSCALE:GREGORIAN
METHOD:PUBLISH
BEGIN:VEVENT
UID:59027a272c0826612440320a9a82d17d
CATEGORIES:Dienstplan Jugendfeuerwehr
CREATED:20190516T224842
SUMMARY:Speeddating
DESCRIPTION;ENCODING=QUOTED-PRINTABLE:\n\nSonderübung der Jugendfeuerwehr zur Kommunalwahl 2019\n
DTSTAMP:20260420T123938Z
DTSTART:20190523T153000Z
DTEND:20190523T193000Z
SEQUENCE:0
TRANSP:OPAQUE
END:VEVENT
END:VCALENDAR