BEGIN:VCALENDAR
VERSION:2.0
PRODID:-//jEvents 2.0 for Joomla//EN
CALSCALE:GREGORIAN
METHOD:PUBLISH
BEGIN:VEVENT
UID:5a85a0161b48d260a520f9e1245f1d68
CATEGORIES:Dienstplan Einsatzabteilung 
CREATED:20190326T095743
SUMMARY:Führungsgruppe: Führungshaus
DESCRIPTION;ENCODING=QUOTED-PRINTABLE:
DTSTAMP:20260422T101714Z
DTSTART:20190415T180000Z
DTEND:20190415T193000Z
SEQUENCE:0
TRANSP:OPAQUE
END:VEVENT
END:VCALENDAR