BEGIN:VCALENDAR
VERSION:2.0
PRODID:-//jEvents 2.0 for Joomla//EN
CALSCALE:GREGORIAN
METHOD:PUBLISH
BEGIN:VEVENT
UID:0f1e0157c8ebaede4618476d584e9648
CATEGORIES:Dienstplan Einsatzabteilung 
CREATED:20190303T221104
SUMMARY:Feuerwehrsport - FitForFireFighting
LOCATION: Kasteneckhalle in Freiberg am Necker
DESCRIPTION;ENCODING=QUOTED-PRINTABLE:\n\nAnsprechpartner: David Bauer\n
DTSTAMP:20260421T135754Z
DTSTART:20200119T090000Z
DTEND:20200119T110000Z
SEQUENCE:0
TRANSP:OPAQUE
END:VEVENT
END:VCALENDAR