BEGIN:VCALENDAR
VERSION:2.0
PRODID:-//jEvents 2.0 for Joomla//EN
CALSCALE:GREGORIAN
METHOD:PUBLISH
BEGIN:VEVENT
UID:b268809497abb3b862147a651a467368
CATEGORIES:Dienstplan Einsatzabteilung 
CREATED:20190303T221051
SUMMARY:Feuerwehrsport - FitForFireFighting
LOCATION: Kasteneckhalle in Freiberg am Necker
DESCRIPTION;ENCODING=QUOTED-PRINTABLE:\n\nAnsprechpartner: David Bauer\n
DTSTAMP:20260421T121318Z
DTSTART:20200105T090000Z
DTEND:20200105T110000Z
SEQUENCE:0
TRANSP:OPAQUE
END:VEVENT
END:VCALENDAR