BEGIN:VCALENDAR
VERSION:2.0
PRODID:-//jEvents 2.0 for Joomla//EN
CALSCALE:GREGORIAN
METHOD:PUBLISH
BEGIN:VEVENT
UID:59fe42c1554480741afaa37495c80e72
CATEGORIES:Dienstplan Einsatzabteilung 
CREATED:20190303T221038
SUMMARY:Feuerwehrsport - FitForFireFighting
LOCATION: Kasteneckhalle in Freiberg am Necker
DESCRIPTION;ENCODING=QUOTED-PRINTABLE:\n\nAnsprechpartner: David Bauer\n
DTSTAMP:20260421T084906Z
DTSTART:20191215T090000Z
DTEND:20191215T110000Z
SEQUENCE:0
TRANSP:OPAQUE
END:VEVENT
END:VCALENDAR