BEGIN:VCALENDAR
VERSION:2.0
PRODID:-//jEvents 2.0 for Joomla//EN
CALSCALE:GREGORIAN
METHOD:PUBLISH
BEGIN:VEVENT
UID:9b6e5546158341aaae2e4935d4763d42
CATEGORIES:Dienstplan Einsatzabteilung 
CREATED:20190303T221021
SUMMARY:Feuerwehrsport - FitForFireFighting
LOCATION: Kasteneckhalle in Freiberg am Necker
DESCRIPTION;ENCODING=QUOTED-PRINTABLE:<p>Ansprechpartner: David Bauer</p>
DTSTAMP:20260421T085807Z
DTSTART:20191201T090000Z
DTEND:20191201T110000Z
SEQUENCE:0
TRANSP:OPAQUE
END:VEVENT
END:VCALENDAR