BEGIN:VCALENDAR
VERSION:2.0
PRODID:-//jEvents 2.0 for Joomla//EN
CALSCALE:GREGORIAN
METHOD:PUBLISH
BEGIN:VEVENT
UID:5477f73952928bac29ca43baaffa9e6a
CATEGORIES:Dienstplan Einsatzabteilung 
CREATED:20190303T220850
SUMMARY:Feuerwehrsport - FitForFireFighting
LOCATION: Kasteneckhalle in Freiberg am Necker
DESCRIPTION;ENCODING=QUOTED-PRINTABLE:<p>Ansprechpartner: David Bauer</p>
DTSTAMP:20260423T113900Z
DTSTART:20190915T080000Z
DTEND:20190915T100000Z
SEQUENCE:0
TRANSP:OPAQUE
END:VEVENT
END:VCALENDAR