BEGIN:VCALENDAR
VERSION:2.0
PRODID:-//jEvents 2.0 for Joomla//EN
CALSCALE:GREGORIAN
METHOD:PUBLISH
BEGIN:VEVENT
UID:35bf68dd9219fbe6f2d6e6d74035c5a7
CATEGORIES:Dienstplan Einsatzabteilung 
CREATED:20190303T220630
SUMMARY:Feuerwehrsport - FitForFireFighting
LOCATION: Kasteneckhalle in Freiberg am Necker
DESCRIPTION;ENCODING=QUOTED-PRINTABLE:<p>Ansprechpartner: David Bauer</p>
DTSTAMP:20260424T091059Z
DTSTART:20190519T080000Z
DTEND:20190519T100000Z
SEQUENCE:0
TRANSP:OPAQUE
END:VEVENT
END:VCALENDAR