BEGIN:VCALENDAR
VERSION:2.0
PRODID:-//jEvents 2.0 for Joomla//EN
CALSCALE:GREGORIAN
METHOD:PUBLISH
BEGIN:VEVENT
UID:F_2020_termin5c3e94da0270b@schulferien.org
CATEGORIES:Ferien Baden-Württemberg
CREATED:20190116T215920
SUMMARY:Herbstferien 2020 Baden-Württemberg
DESCRIPTION;ENCODING=QUOTED-PRINTABLE:Alle Termine auf www.schulferien.org
DTSTAMP:20260421T205704Z
DTSTART;VALUE=DATE:20201026
DTEND;VALUE=DATE:20201031
SEQUENCE:0
TRANSP:OPAQUE
END:VEVENT
END:VCALENDAR