BEGIN:VCALENDAR
VERSION:2.0
PRODID:-//jEvents 2.0 for Joomla//EN
CALSCALE:GREGORIAN
METHOD:PUBLISH
BEGIN:VEVENT
UID:F_2020_termin5c3e94da02497@schulferien.org
CATEGORIES:Ferien Baden-Württemberg
CREATED:20190116T215920
SUMMARY:Sommerferien 2020 Baden-Württemberg
DESCRIPTION;ENCODING=QUOTED-PRINTABLE:Alle Termine auf www.schulferien.org
DTSTAMP:20260421T151741Z
DTSTART;VALUE=DATE:20200730
DTEND;VALUE=DATE:20200913
SEQUENCE:0
TRANSP:OPAQUE
END:VEVENT
END:VCALENDAR