BEGIN:VCALENDAR
VERSION:2.0
PRODID:-//jEvents 2.0 for Joomla//EN
CALSCALE:GREGORIAN
METHOD:PUBLISH
BEGIN:VEVENT
UID:FT_2020_feiertag5c3e94d9ccc3a@schulferien.org
CATEGORIES:Ferien Baden-Württemberg
CREATED:20190116T215824
SUMMARY:Allerheiligen
DESCRIPTION;ENCODING=QUOTED-PRINTABLE:Alle Termine auf www.schulferien.org
DTSTAMP:20260422T012713Z
DTSTART;VALUE=DATE:20201101
DTEND;VALUE=DATE:20201102
SEQUENCE:0
TRANSP:OPAQUE
END:VEVENT
END:VCALENDAR