BEGIN:VCALENDAR
VERSION:2.0
PRODID:-//jEvents 2.0 for Joomla//EN
CALSCALE:GREGORIAN
METHOD:PUBLISH
BEGIN:VEVENT
UID:FT_2020_feiertag5c3e94d9d0a72@schulferien.org
CATEGORIES:Ferien Baden-Württemberg
CREATED:20190116T215824
SUMMARY:Tag der Arbeit
DESCRIPTION;ENCODING=QUOTED-PRINTABLE:Alle Termine auf www.schulferien.org
DTSTAMP:20260421T134906Z
DTSTART;VALUE=DATE:20200501
DTEND;VALUE=DATE:20200502
SEQUENCE:0
TRANSP:OPAQUE
END:VEVENT
END:VCALENDAR