BEGIN:VCALENDAR
VERSION:2.0
PRODID:-//jEvents 2.0 for Joomla//EN
CALSCALE:GREGORIAN
METHOD:PUBLISH
BEGIN:VEVENT
UID:FT_2020_feiertag5c3e94d9cffa4@schulferien.org
CATEGORIES:Ferien Baden-Württemberg
CREATED:20190116T215824
SUMMARY:Ostermontag
DESCRIPTION;ENCODING=QUOTED-PRINTABLE:Alle Termine auf www.schulferien.org
DTSTAMP:20260421T125203Z
DTSTART;VALUE=DATE:20200413
DTEND;VALUE=DATE:20200414
SEQUENCE:0
TRANSP:OPAQUE
END:VEVENT
END:VCALENDAR