BEGIN:VCALENDAR
VERSION:2.0
PRODID:-//jEvents 2.0 for Joomla//EN
CALSCALE:GREGORIAN
METHOD:PUBLISH
BEGIN:VEVENT
UID:FT_2019_feiertag5c3e94d85b0ac@schulferien.org
CATEGORIES:Ferien Baden-Württemberg
CREATED:20190116T215748
SUMMARY:2. Weihnachtsfeiertag
DESCRIPTION;ENCODING=QUOTED-PRINTABLE:Alle Termine auf www.schulferien.org
DTSTAMP:20260423T132901Z
DTSTART;VALUE=DATE:20191226
DTEND;VALUE=DATE:20191227
SEQUENCE:0
TRANSP:OPAQUE
END:VEVENT
END:VCALENDAR