BEGIN:VCALENDAR
VERSION:2.0
PRODID:-//jEvents 2.0 for Joomla//EN
CALSCALE:GREGORIAN
METHOD:PUBLISH
BEGIN:VEVENT
UID:F_2019_termin5a97635412580@schulferien.org
CATEGORIES:Ferien Baden-Württemberg
CREATED:20190116T215131
SUMMARY:Sommerferien 2019 Baden-Württemberg
DESCRIPTION;ENCODING=QUOTED-PRINTABLE:Alle Termine auf www.schulferien.org
DTSTAMP:20260422T133304Z
DTSTART;VALUE=DATE:20190729
DTEND;VALUE=DATE:20190911
SEQUENCE:0
TRANSP:OPAQUE
END:VEVENT
END:VCALENDAR