BEGIN:VCALENDAR
VERSION:2.0
PRODID:-//jEvents 2.0 for Joomla//EN
CALSCALE:GREGORIAN
METHOD:PUBLISH
BEGIN:VEVENT
UID:AAAAACr2msFxYXNOnNmAfz34etOEDyAA
CATEGORIES:Dienstplan Jugendfeuerwehr
CLASS:PUBLIC
CREATED:20190116T214717
SUMMARY:Jahresabschluss Jugendfeuerwehr
LOCATION:Schwieberdingen
DESCRIPTION;ENCODING=QUOTED-PRINTABLE:Gemeinsamer Abschlussabend mit den Eltern - Zivil - alle
DTSTAMP:20260421T135702Z
DTSTART:20191220T173000Z
DTEND:20191220T210000Z
SEQUENCE:0
TRANSP:OPAQUE
END:VEVENT
END:VCALENDAR