BEGIN:VCALENDAR
VERSION:2.0
PRODID:-//jEvents 2.0 for Joomla//EN
CALSCALE:GREGORIAN
METHOD:PUBLISH
BEGIN:VEVENT
UID:AAAAACr2msFxYXNOnNmAfz34etNEDyAA
CATEGORIES:Dienstplan Jugendfeuerwehr
CLASS:PUBLIC
CREATED:20190116T214717
SUMMARY:Sitzung der Jugendwarte
LOCATION:offen
DESCRIPTION;ENCODING=QUOTED-PRINTABLE:- Zivil - Jugendwart
DTSTAMP:20260421T114943Z
DTSTART:20191127T183000Z
DTEND:20191127T220000Z
SEQUENCE:0
TRANSP:OPAQUE
END:VEVENT
END:VCALENDAR