BEGIN:VCALENDAR
VERSION:2.0
PRODID:-//jEvents 2.0 for Joomla//EN
CALSCALE:GREGORIAN
METHOD:PUBLISH
BEGIN:VEVENT
UID:AAAAACr2msFxYXNOnNmAfz34etMkDyAA
CATEGORIES:Dienstplan Jugendfeuerwehr
CREATED:20190116T214717
SUMMARY:Übung
LOCATION:Schwieberdingen
DESCRIPTION;ENCODING=QUOTED-PRINTABLE:\n\n- Uniform - alle\n\n\nBitte die geänderte Zeit beachten - wir besuchen 
 die Hauptwache in Ludwigsburg!\n
DTSTAMP:20260421T101450Z
DTSTART:20191121T170000Z
DTEND:20191121T200000Z
SEQUENCE:0
TRANSP:OPAQUE
END:VEVENT
END:VCALENDAR