BEGIN:VCALENDAR
VERSION:2.0
PRODID:-//jEvents 2.0 for Joomla//EN
CALSCALE:GREGORIAN
METHOD:PUBLISH
BEGIN:VEVENT
UID:AAAAACr2msFxYXNOnNmAfz34etNEDSAA
CATEGORIES:Dienstplan Jugendfeuerwehr
CLASS:PUBLIC
CREATED:20190116T214717
SUMMARY:Lehrgang der Landesjugendfeuerwehr
LOCATION:Schwieberdingen
DESCRIPTION;ENCODING=QUOTED-PRINTABLE:Parallel mit Einsatzabteilung - Uniform - Jugendleiter
DTSTAMP:20260422T084517Z
DTSTART:20190629T060000Z
DTEND:20190629T190000Z
SEQUENCE:0
TRANSP:OPAQUE
END:VEVENT
END:VCALENDAR