BEGIN:VCALENDAR
VERSION:2.0
PRODID:-//jEvents 2.0 for Joomla//EN
CALSCALE:GREGORIAN
METHOD:PUBLISH
BEGIN:VEVENT
UID:AAAAACr2msFxYXNOnNmAfz34etMkDSAA
CATEGORIES:Dienstplan Jugendfeuerwehr
CLASS:PUBLIC
CREATED:20190116T214717
SUMMARY:Übung
LOCATION:Schwieberdingen
DESCRIPTION;ENCODING=QUOTED-PRINTABLE:Vorbereitung Zeltlager - Uniform - alle
DTSTAMP:20260422T102754Z
DTSTART:20190627T163000Z
DTEND:20190627T180000Z
SEQUENCE:0
TRANSP:OPAQUE
END:VEVENT
END:VCALENDAR