BEGIN:VCALENDAR
VERSION:2.0
PRODID:-//jEvents 2.0 for Joomla//EN
CALSCALE:GREGORIAN
METHOD:PUBLISH
BEGIN:VEVENT
UID:AAAAACr2msFxYXNOnNmAfz34etOEDCAA
CATEGORIES:Dienstplan Jugendfeuerwehr
CLASS:PUBLIC
CREATED:20190116T214717
SUMMARY:Kreispokal
LOCATION:Möglingen
DESCRIPTION;ENCODING=QUOTED-PRINTABLE:Tagesevent in Möglingen - Ende gegen 17:00 Uhr - Uniform - alle
DTSTAMP:20260422T083308Z
DTSTART:20190504T060000Z
DTEND:20190504T150000Z
SEQUENCE:0
TRANSP:OPAQUE
END:VEVENT
END:VCALENDAR