BEGIN:VCALENDAR
VERSION:2.0
PRODID:-//jEvents 2.0 for Joomla//EN
CALSCALE:GREGORIAN
METHOD:PUBLISH
BEGIN:VEVENT
UID:AAAAAJSDktHmH+5HlTt++oiaSZFERzwA
CATEGORIES:Dienstplan Einsatzabteilung 
CREATED:20190110T205319
SUMMARY:Atemschutzgeräteträger: Stationsausbildung
DESCRIPTION;ENCODING=QUOTED-PRINTABLE:
DTSTAMP:20260421T120707Z
DTSTART:20191017T180000Z
DTEND:20191017T193000Z
SEQUENCE:0
TRANSP:OPAQUE
END:VEVENT
END:VCALENDAR